BEGIN:VCALENDAR
VERSION:2.0
PRODID:-//Squarespace Inc/Squarespace 6//v6//EN
BEGIN:VEVENT
UID:565679d0e4b09e2585417993@squarespace.com
DTSTAMP:20170327T225914Z
DTSTART:20170512T010000Z
DTEND:20170623T021500Z
SUMMARY:Take a Deep Breath - Register your interest for 2017
GEO:40.720756;-74.000761
LOCATION:Stout Street Chambers\, Huddart Parker Bldg\, 1 P ost Office Squar
 e\, Wellington 6011
END:VEVENT
END:VCALENDAR
