BEGIN:VCALENDAR
VERSION:2.0
PRODID:-//Squarespace Inc/Squarespace 6//v6//EN
BEGIN:VEVENT
UID:5697170405f8e20acb378b75@squarespace.com
DTSTAMP:20160320T043405Z
DTSTART:20160516T204500Z
DTEND:20160517T004500Z
SUMMARY:'Minimise Impact of Complaints' workshop
END:VEVENT
END:VCALENDAR
