BEGIN:VCALENDAR
VERSION:2.0
PRODID:-//Squarespace Inc/Squarespace 6//v6//EN
BEGIN:VEVENT
UID:565bc280e4b01a74eaf32041@squarespace.com
DTSTAMP:20160218T215545Z
DTSTART:20160410T210000Z
DTEND:20160411T050000Z
SUMMARY: 'Women in the Law - Career by Design'
GEO:-41.291293;174.7818
LOCATION:Te Papa Tongarewa\, Cable Street\, Wellington\, Wellington\, 6011\
 , New Zealand
END:VEVENT
END:VCALENDAR
