BEGIN:VCALENDAR
VERSION:2.0
PRODID:-//Squarespace Inc/Squarespace 6//v6//EN
BEGIN:VEVENT
UID:56b57aebb6aa60c06e98d0ab@squarespace.com
DTSTAMP:20160218T215603Z
DTSTART:20160411T210000Z
DTEND:20160412T050000Z
SUMMARY:Women In The Law: Career by Design
GEO:-36.849028;174.762676
LOCATION:Skycity Convention Centre\, 88 Federal Street\, Auckland\, Aucklan
 d\, 1010\, New Zealand
END:VEVENT
END:VCALENDAR
