BEGIN:VCALENDAR
VERSION:2.0
PRODID:-//Squarespace Inc/Squarespace 6//v6//EN
BEGIN:VEVENT
UID:579c1e5d9de4bb7ff30e6029@squarespace.com
DTSTAMP:20160819T213832Z
DTSTART:20160824T210000Z
DTEND:20160825T043000Z
SUMMARY:Effective Leadership 
END:VEVENT
END:VCALENDAR
